BEGIN:VCALENDAR
VERSION:2.0
PRODID:icalendar-ruby
CALSCALE:GREGORIAN
BEGIN:VEVENT
DTSTAMP:20260425T214011Z
UID:e5b66a1d-783a-4936-b5d2-8e106df6f082
DTSTART;VALUE=DATE:20250303
DESCRIPTION:Property ID# 586859\, Locatoin: Rotary Club Rooms - 45 Canada S
 treet\, Morrinsville\, Time: 12:00PM
SUMMARY:Auction for 
END:VEVENT
END:VCALENDAR
