BEGIN:VCALENDAR
VERSION:2.0
PRODID:icalendar-ruby
CALSCALE:GREGORIAN
BEGIN:VEVENT
DTSTAMP:20260420T124220Z
UID:b4a6cf25-13d5-4bc4-8456-c44e6087f7f0
DTSTART;VALUE=DATE:20220629
DESCRIPTION:Property ID# 537822\, Time: 3:00PM
SUMMARY:Auction for 
END:VEVENT
END:VCALENDAR
