BEGIN:VCALENDAR
VERSION:2.0
PRODID:icalendar-ruby
CALSCALE:GREGORIAN
BEGIN:VEVENT
DTSTAMP:20260422T083803Z
UID:02992e93-fd0e-4f7c-86d8-f20ed85bd2fd
DTSTART;VALUE=DATE:20210526
DESCRIPTION:Property ID# 509143\, Locatoin: Lodge Auction Rooms 935 Victori
 a Street\, Time: 12:30PM
SUMMARY:Auction for 
END:VEVENT
END:VCALENDAR
