BEGIN:VCALENDAR
VERSION:2.0
PRODID:icalendar-ruby
CALSCALE:GREGORIAN
BEGIN:VEVENT
DTSTAMP:20260420T120827Z
UID:975db64b-0780-4fef-9d0f-58f56946ce3a
DTSTART;VALUE=DATE:20210415
DESCRIPTION:Property ID# 505956\, Time: 1:00PM
SUMMARY:Auction for 
END:VEVENT
END:VCALENDAR
