BEGIN:VCALENDAR
VERSION:2.0
PRODID:icalendar-ruby
CALSCALE:GREGORIAN
BEGIN:VEVENT
DTSTAMP:20260421T182712Z
UID:20b5d49e-08bd-4d78-874a-cd4d995d3041
DTSTART;VALUE=DATE:20191030
DESCRIPTION:Property ID# 464228\, Locatoin: Lodge Auction Rooms\, Time: 12:
 30PM
SUMMARY:Auction for 
END:VEVENT
END:VCALENDAR
